BEGIN:VCALENDAR
VERSION:2.0
PRODID:-//wp-events-plugin.com//7.2.3.1//EN
TZID:America/New_York
X-WR-TIMEZONE:America/New_York
BEGIN:VEVENT
UID:2636@wjcenter.org
DTSTART;TZID=America/New_York:20250518T090000
DTEND;TZID=America/New_York:20250518T140000
DTSTAMP:20250501T200821Z
URL:https://www.wjcenter.org/events/celebrate-israel-parade-2/
SUMMARY:Celebrate Israel Parade
DESCRIPTION:The annual Celebrate Israel Parade in NYC will take place on Su
 nday\, May 18\, 2025 and WJC will again be having a group to march with th
 e greater Westchester Jewish Community. There will be a bus going from WJC
  to Manhattan and back. Please register for your spot on the bus below. T
 he bus will leave WJC at 9:00 am and plans to return by 2:00 pm\, as our m
 arch time is 10:45 am. The meeting point if you are taking your own transp
 ortation is Section 1W: East 52nd Street between 5th &amp\; 6th Avenue. If
  you have any questions or will be joining the group in Manhattan\,  plea
 se contact David Goldstein at david@wjcenter.org\nTo register for your spo
 t on the bus\, follow this link: https://wjcenter.shulcloud.com/form/2025-
 israel-day-parade
ATTACH;FMTTYPE=image/jpeg:https://www.wjcenter.org/wp-content/uploads/2025
 /04/Israel-Day-Parade.png
CATEGORIES:Featured Events
END:VEVENT
BEGIN:VTIMEZONE
TZID:America/New_York
X-LIC-LOCATION:America/New_York
BEGIN:DAYLIGHT
DTSTART:20250309T030000
TZOFFSETFROM:-0500
TZOFFSETTO:-0400
TZNAME:EDT
END:DAYLIGHT
END:VTIMEZONE
END:VCALENDAR