BEGIN:VCALENDAR
VERSION:2.0
PRODID:-//wp-events-plugin.com//7.2.3.1//EN
TZID:America/New_York
X-WR-TIMEZONE:America/New_York
BEGIN:VEVENT
UID:3185@wjcenter.org
DTSTART;TZID=America/New_York:20260401T080000
DTEND;TZID=America/New_York:20260401T093000
DTSTAMP:20260330T144402Z
URL:https://www.wjcenter.org/events/chametz-roast-marshmallow-toast/
SUMMARY:Chametz Roast & Marshmallow Toast
DESCRIPTION:The Torah informs us that chametz (leavened products) should no
 t be eaten\, seen\, or even located in one’s house during the festival o
 f Passover. Therefore\, people go to great lengths and often create games 
 to search the nooks and crannies to remove yeast products from their homes
  and burn them the morning before the holiday begins. This symbolizes clea
 ning out our minds and hearts\, removing negative forces for renewal.\n\nB
 ring your gathered leftovers to WJC and we will burn our chametz together.
  We will supply the marshmallows to toast and eat as we watch our chametz 
 burn.
ATTACH;FMTTYPE=image/jpeg:https://www.wjcenter.org/wp-content/uploads/2026
 /02/chametz-roast.png
CATEGORIES:Community,Featured Events
END:VEVENT
BEGIN:VTIMEZONE
TZID:America/New_York
X-LIC-LOCATION:America/New_York
BEGIN:DAYLIGHT
DTSTART:20260308T030000
TZOFFSETFROM:-0500
TZOFFSETTO:-0400
TZNAME:EDT
END:DAYLIGHT
END:VTIMEZONE
END:VCALENDAR