BEGIN:VCALENDAR
VERSION:2.0
PRODID:-//wp-events-plugin.com//7.2.3.1//EN
TZID:America/New_York
X-WR-TIMEZONE:America/New_York
BEGIN:VEVENT
UID:1986@wjcenter.org
DTSTART;TZID=America/New_York:20231217T101500
DTEND;TZID=America/New_York:20231217T101500
DTSTAMP:20231124T025234Z
URL:https://www.wjcenter.org/events/judaism-unveiled-beyond-the-black-and-
 white-3/
SUMMARY:Judaism Unveiled: Beyond the Black and White
DESCRIPTION:Our revitalized Adult Education program continues with “Judai
 sm Unveiled: Beyond the Black and White.” We’ll delve into thought-pro
 voking themes and topics—Jewish characters\, stories and holidays—in t
 he Sunday sessions at 10:15am in the WJC Library. We invite everyone to jo
 in us.\nDecember 17: Beyond Holiday Celebrations\nWhile Rosh Hashanah\, Pu
 rim\, and Hanukkah are beloved holidays\, they hold provocative narratives
  that run far deeper than our celebrations suggest. We will peel back laye
 rs of modern practices to highlight facts that are not widely known and of
 ten reveal dark truths.\nUpcoming:\nHeart of the Matter: How Relationships
  Transform Life\nFrom neighbors to family to partners\, relationships weav
 e the intricate threads of life\n\nJanuary 7: Soulful Bonds\nThe Jewish an
 d Black communities share a resilient history of solidarity. To honor Mart
 in Luther King Day\, we’ll examine the connection between Jewish and Bla
 ck Americans. We will delve into this historical alliance and discover how
  this support has evolved through the years.\n\nJanuary 21: Family Matters
 \nFamilies are ever-evolving\, especially the bond between parents\, child
 ren and siblings. But what exactly are the obligations that bind them? We 
 will investigate Torah teachings to discuss the intricate web of responsib
 ilities that shape families.\n\nJanuary 28: Crafting a Love That Lasts\nRe
 lationships are a blend of enchanting moments and testing trials. From the
  nurturing care that binds to the flames of intimacy\, we will survey Jewi
 sh partnerships. We will illuminate the multifaceted obligations that shap
 e the dance of love and partnership.
ATTACH;FMTTYPE=image/jpeg:https://www.wjcenter.org/wp-content/uploads/2023
 /09/WJC-EverythingYouWantedtoKnow.png
CATEGORIES:Featured Events
END:VEVENT
BEGIN:VTIMEZONE
TZID:America/New_York
X-LIC-LOCATION:America/New_York
BEGIN:STANDARD
DTSTART:20231105T010000
TZOFFSETFROM:-0400
TZOFFSETTO:-0500
TZNAME:EST
END:STANDARD
END:VTIMEZONE
END:VCALENDAR