BEGIN:VCALENDAR
VERSION:2.0
PRODID:-//wp-events-plugin.com//7.2.3.1//EN
TZID:America/New_York
X-WR-TIMEZONE:America/New_York
BEGIN:VEVENT
UID:3189@wjcenter.org
DTSTART;TZID=America/New_York:20260419T160000
DTEND;TZID=America/New_York:20260419T180000
DTSTAMP:20260413T151643Z
URL:https://www.wjcenter.org/events/learning-with-neighbors/
SUMMARY:Learning with Neighbors
DESCRIPTION:The Mamaroneck/Larchmont Interfaith Clergy Council presents 'Le
 arning with Neighbors' where thoughtful conversation led by multiple pairs
  of clergy each exploring the Season of Renewal through the lens of their 
 own faith tradition. The learning will be led by clergy from WJC\, St. Tho
 mas Episcopal Church\, St. John's Larchmont\, Larchmont Temple and Larchmo
 nt Avenue Church.\n\nThere will be dinner served and childcare (for ages 3
 -10) will be provided for those that need it. The program is appropriate f
 or children 10 and older.\nREGISTER FOR THE PROGRAM\nThis program is spons
 ored by the Westchester Board of Rabbis\, in coordination with the Westche
 ster Jewish Council and in partnership with UJA Federation.\n\nPlease cont
 act Tami Arnowitz at tami@wjcouncil.org with any questions.
ATTACH;FMTTYPE=image/jpeg:https://www.wjcenter.org/wp-content/uploads/2026
 /03/learning-with-neighbors.jpg
CATEGORIES:Adult Education,Featured Events
END:VEVENT
BEGIN:VTIMEZONE
TZID:America/New_York
X-LIC-LOCATION:America/New_York
BEGIN:DAYLIGHT
DTSTART:20260308T030000
TZOFFSETFROM:-0500
TZOFFSETTO:-0400
TZNAME:EDT
END:DAYLIGHT
END:VTIMEZONE
END:VCALENDAR