BEGIN:VCALENDAR
VERSION:2.0
PRODID:-//wp-events-plugin.com//7.2.3.1//EN
TZID:America/New_York
X-WR-TIMEZONE:America/New_York
BEGIN:VEVENT
UID:1629@wjcenter.org
DTSTART;TZID=America/New_York:20230326T090000
DTEND;TZID=America/New_York:20230326T090000
DTSTAMP:20230213T020402Z
URL:https://www.wjcenter.org/events/people-to-people-bronx-passover-delive
 ry/
SUMMARY:People to People Bronx Passover Delivery
DESCRIPTION:If you have a car\, an hour or so to spare on Sunday morning\, 
 March 26th\, and friends or family to accompany you\, this is a PASSOVER m
 itzvah opportunity to consider! At 9:00am at one of two sites in the Bronx
  Bronx Jewish Community Council Staff will give you Passover Foods to hand
  deliver to clients who are homebound and live in the area. With the organ
 ized contact information given one can make four deliveries in about an ho
 ur (often recipients are in the same building) Good to have a team of two 
 adults.\n\nBring your children and teens. Good for teens to know that not 
 everyone lives in places like Larchmont! Not everyone has food security! N
 ot everyone has family! Not everyone can get to the market easily! Truly o
 bserve the mitzvah of "Kol Dichfin" LET ALL WHO ARE HUNGRY COME AND EAT...
  what you drop off will enable everyone to celebrate Passover with special
  items and the brief personal contact of a greeting and a new face will fe
 ed the soul as much as the foods will fill the stomach.\n\nQuestions? Cont
 act Ruth Obernbreit Glass: ruthie6851@gmail.com\n\nSponsored by Bronx Jewi
 sh Community Council\nTwo locations: 2157 Holland Avenue (near Pelham Park
 way) &amp\; 95 Gale Ave (near Montefiore)
ATTACH;FMTTYPE=image/jpeg:https://www.wjcenter.org/wp-content/uploads/2023
 /02/WJC-BronxFoodDelivery.png
CATEGORIES:Featured Events
END:VEVENT
BEGIN:VTIMEZONE
TZID:America/New_York
X-LIC-LOCATION:America/New_York
BEGIN:DAYLIGHT
DTSTART:20230312T030000
TZOFFSETFROM:-0500
TZOFFSETTO:-0400
TZNAME:EDT
END:DAYLIGHT
END:VTIMEZONE
END:VCALENDAR