BEGIN:VCALENDAR
VERSION:2.0
PRODID:-//wp-events-plugin.com//7.2.3.1//EN
TZID:America/New_York
X-WR-TIMEZONE:America/New_York
BEGIN:VEVENT
UID:2615@wjcenter.org
DTSTART;TZID=America/New_York:20250504T100000
DTEND;TZID=America/New_York:20250504T120000
DTSTAMP:20250403T134437Z
URL:https://www.wjcenter.org/events/period-poverty-speaker/
SUMMARY:Period Poverty Speakers
DESCRIPTION:On May 4th\, in recognition of National Menstrual Health Awaren
 ess Month\, SOJAC will be hosting Elizabeth Zimmerman\, community organize
 r from NYCJW\, who will give us an overview of period poverty and discuss 
 the advocacy work to address the issue in NYS. We will also hear from a sp
 eaker from The Sharing Shelf\, who will speak about the existence of perio
 d poverty in Westchester County and how their organization works to addres
 s it.\n\nTo RSVP\, please email wjcsojac@gmail.com.
ATTACH;FMTTYPE=image/jpeg:https://www.wjcenter.org/wp-content/uploads/2025
 /03/Period-Poverty-1.png
CATEGORIES:Adult Education,Featured Events,SOJAC
END:VEVENT
BEGIN:VTIMEZONE
TZID:America/New_York
X-LIC-LOCATION:America/New_York
BEGIN:DAYLIGHT
DTSTART:20250309T030000
TZOFFSETFROM:-0500
TZOFFSETTO:-0400
TZNAME:EDT
END:DAYLIGHT
END:VTIMEZONE
END:VCALENDAR