BEGIN:VCALENDAR
VERSION:2.0
PRODID:-//wp-events-plugin.com//7.2.3.1//EN
TZID:America/New_York
X-WR-TIMEZONE:America/New_York
BEGIN:VEVENT
UID:142@wjcenter.org
DTSTART;TZID=America/New_York:20181108T093000
DTEND;TZID=America/New_York:20181108T101500
DTSTAMP:20180918T215127Z
URL:https://www.wjcenter.org/events/shajam-sing-along-2/
SUMMARY:ShaJam Sing-Along
DESCRIPTION:Join Friends at WJC for a Music and Movement Shabbat Experience
 .\nOpen to children birth through pre-school age and their grown-ups.\n\nT
 hursday mornings 9:30—10:15am\n*No charge for this program\nFor more inf
 ormation\, contact: Aleza Kulp 914-698-2960 • educdir@wjcenter.org\nThis
  program made possible through a grant from PJ Library\, a program of the 
 Harold Grinspoon Foundation.
ATTACH;FMTTYPE=image/jpeg:https://www.wjcenter.org/wp-content/uploads/2018
 /09/WJC-ShaJam.jpg
CATEGORIES:Featured Events
LOCATION:Westchester Jewish Center\, 175 Rockland Avenue\, Mamaroneck\, New
  York\, 10543\, United States
X-APPLE-STRUCTURED-LOCATION;VALUE=URI;X-ADDRESS=175 Rockland Avenue\, Mamar
 oneck\, New York\, 10543\, United States;X-APPLE-RADIUS=100;X-TITLE=Westch
 ester Jewish Center:geo:0,0
END:VEVENT
BEGIN:VTIMEZONE
TZID:America/New_York
X-LIC-LOCATION:America/New_York
BEGIN:STANDARD
DTSTART:20181104T010000
TZOFFSETFROM:-0400
TZOFFSETTO:-0500
TZNAME:EST
END:STANDARD
END:VTIMEZONE
END:VCALENDAR