BEGIN:VCALENDAR
VERSION:2.0
PRODID:-//wp-events-plugin.com//7.2.3.1//EN
TZID:America/New_York
X-WR-TIMEZONE:America/New_York
BEGIN:VEVENT
UID:2123@wjcenter.org
DTSTART;TZID=America/New_York:20240429T110000
DTEND;TZID=America/New_York:20240429T110000
DTSTAMP:20240322T155835Z
URL:https://www.wjcenter.org/events/torah-for-tots-174/
SUMMARY:Torah for Tots
DESCRIPTION:Passover is almost over and it is time for us to celebrate the 
 final days of this special holiday. Children along with their grown up are
  invited to join us for our Torah for Tots service. We will sing Shabbat s
 ongs\, celebrate friendship and enjoy learning about Shabbat. This program
  is geared towards ECC age children through Kindergarten
ATTACH;FMTTYPE=image/jpeg:https://www.wjcenter.org/wp-content/uploads/2020
 /05/WJC-TorahforTots.jpg
CATEGORIES:Featured Events
END:VEVENT
BEGIN:VTIMEZONE
TZID:America/New_York
X-LIC-LOCATION:America/New_York
BEGIN:DAYLIGHT
DTSTART:20240310T030000
TZOFFSETFROM:-0500
TZOFFSETTO:-0400
TZNAME:EDT
END:DAYLIGHT
END:VTIMEZONE
END:VCALENDAR