BEGIN:VCALENDAR
VERSION:2.0
PRODID:-//wp-events-plugin.com//7.2.3.1//EN
TZID:America/New_York
X-WR-TIMEZONE:America/New_York
BEGIN:VEVENT
UID:447@wjcenter.org
DTSTART;TZID=America/New_York:20201022T193000
DTEND;TZID=America/New_York:20201217T203000
DTSTAMP:20200922T230340Z
URL:https://www.wjcenter.org/event-recurring/virtual-song-circle/
SUMMARY:Virtual Song Circle
DESCRIPTION:Every other Thursday from October 22-December 17 at 7:30pm \nJo
 in Westchester Jewish Center and Temple Israel Center for a Virtual Song C
 ircle\, led by Cantors Shoshi and Ethan Levin Goldberg. We will build comm
 unity through song\, both by learning new melodies and practicing familiar
  tunes. Each session will begin with a meditation to help prepare for Shab
 bat. \nJoin Zoom Meeting: https://us02web.zoom.us/j/82970296148\nZoom Meet
 ing ID: 829 7029 6148
ATTACH;FMTTYPE=image/jpeg:https://www.wjcenter.org/wp-content/uploads/2020
 /09/WJC-VirtualSong.jpg
CATEGORIES:Featured Events
END:VEVENT
BEGIN:VTIMEZONE
TZID:America/New_York
X-LIC-LOCATION:America/New_York
BEGIN:DAYLIGHT
DTSTART:20200308T030000
TZOFFSETFROM:-0500
TZOFFSETTO:-0400
TZNAME:EDT
END:DAYLIGHT
BEGIN:STANDARD
DTSTART:20201101T010000
TZOFFSETFROM:-0400
TZOFFSETTO:-0500
TZNAME:EST
END:STANDARD
END:VTIMEZONE
END:VCALENDAR